BEGIN:VCALENDAR
VERSION:2.0
PRODID:-//Beehive Montessori - ECPv5.1.2//NONSGML v1.0//EN
CALSCALE:GREGORIAN
METHOD:PUBLISH
X-WR-CALNAME:Beehive Montessori
X-ORIGINAL-URL:http://www.beehive.wa.edu.au
X-WR-CALDESC:Events for Beehive Montessori
BEGIN:VTIMEZONE
TZID:Australia/Perth
BEGIN:STANDARD
TZOFFSETFROM:+0800
TZOFFSETTO:+0800
TZNAME:AWST
DTSTART:20200101T000000
END:STANDARD
END:VTIMEZONE
BEGIN:VEVENT
DTSTART;TZID=Australia/Perth:20201130T083000
DTEND;TZID=Australia/Perth:20201130T150000
DTSTAMP:20210301T032152
CREATED:20200603T024932Z
LAST-MODIFIED:20200603T024932Z
UID:1207-1606725000-1606748400@www.beehive.wa.edu.au
SUMMARY:St. Nicholas Day
DESCRIPTION:
URL:http://www.beehive.wa.edu.au/event/st-nicholas-day/
END:VEVENT
END:VCALENDAR