BEGIN:VCALENDAR
VERSION:2.0
PRODID:-//Beehive Montessori - ECPv5.1.2//NONSGML v1.0//EN
CALSCALE:GREGORIAN
METHOD:PUBLISH
X-WR-CALNAME:Beehive Montessori
X-ORIGINAL-URL:http://www.beehive.wa.edu.au
X-WR-CALDESC:Events for Beehive Montessori
BEGIN:VTIMEZONE
TZID:Australia/Perth
BEGIN:STANDARD
TZOFFSETFROM:+0800
TZOFFSETTO:+0800
TZNAME:AWST
DTSTART:20210101T000000
END:STANDARD
END:VTIMEZONE
BEGIN:VEVENT
DTSTART;TZID=Australia/Perth:20210426T080000
DTEND;TZID=Australia/Perth:20210426T150000
DTSTAMP:20210301T033301
CREATED:20201023T055550Z
LAST-MODIFIED:20201023T055550Z
UID:1688-1619424000-1619449200@www.beehive.wa.edu.au
SUMMARY:ANZAC Day Public Holiday
DESCRIPTION:
URL:http://www.beehive.wa.edu.au/event/anzac-day-public-holiday/
END:VEVENT
END:VCALENDAR